BEGIN:VCALENDAR
VERSION:2.0
PRODID:-//sank - Slovenská asociácia naturálnej kulturistiky - ECPv6.15.15//NONSGML v1.0//EN
CALSCALE:GREGORIAN
METHOD:PUBLISH
X-ORIGINAL-URL:https://sank.sk
X-WR-CALDESC:Udalosti pre sank - Slovenská asociácia naturálnej kulturistiky
REFRESH-INTERVAL;VALUE=DURATION:PT1H
X-Robots-Tag:noindex
X-PUBLISHED-TTL:PT1H
BEGIN:VTIMEZONE
TZID:Europe/Helsinki
BEGIN:DAYLIGHT
TZOFFSETFROM:+0200
TZOFFSETTO:+0300
TZNAME:EEST
DTSTART:20250330T010000
END:DAYLIGHT
BEGIN:STANDARD
TZOFFSETFROM:+0300
TZOFFSETTO:+0200
TZNAME:EET
DTSTART:20251026T010000
END:STANDARD
BEGIN:DAYLIGHT
TZOFFSETFROM:+0200
TZOFFSETTO:+0300
TZNAME:EEST
DTSTART:20260329T010000
END:DAYLIGHT
BEGIN:STANDARD
TZOFFSETFROM:+0300
TZOFFSETTO:+0200
TZNAME:EET
DTSTART:20261025T010000
END:STANDARD
BEGIN:DAYLIGHT
TZOFFSETFROM:+0200
TZOFFSETTO:+0300
TZNAME:EEST
DTSTART:20270328T010000
END:DAYLIGHT
BEGIN:STANDARD
TZOFFSETFROM:+0300
TZOFFSETTO:+0200
TZNAME:EET
DTSTART:20271031T010000
END:STANDARD
END:VTIMEZONE
BEGIN:VEVENT
DTSTART;VALUE=DATE:20260523
DTEND;VALUE=DATE:20260524
DTSTAMP:20260418T084205
CREATED:20260117T133329Z
LAST-MODIFIED:20260406T003037Z
UID:14679-1779494400-1779580799@sank.sk
SUMMARY:Majstrovstvá Slovenska v Naturálnej kulturistike a fitness 2026
DESCRIPTION:Propozicie-MSR-Michalovce
URL:https://sank.sk/event/majstrovstva-slovenska-v-naturalnej-kulturistike-a-fitness-2026/
LOCATION:Mestské kultúrne stredisko Michalovce\, Námestie osloboditeľov 916\, Michalovce\, 07101
CATEGORIES:Majstrovstvá Slovenska
ATTACH;FMTTYPE=image/jpeg:https://sank.sk/wp-content/uploads/2026/01/MS-SK-sank.jpeg
ORGANIZER;CN="SANK":MAILTO:sank@sank.sk
END:VEVENT
BEGIN:VEVENT
DTSTART;VALUE=DATE:20260530
DTEND;VALUE=DATE:20260531
DTSTAMP:20260418T084205
CREATED:20260117T133734Z
LAST-MODIFIED:20260126T201439Z
UID:14682-1780099200-1780185599@sank.sk
SUMMARY:11. European POWERFIT Natural cup 2026
DESCRIPTION:
URL:https://sank.sk/event/11-european-powerfit-natural-cup-2026/
LOCATION:Cultus\, Ružinov\, Ružinovská 28\, Bratislava\, 82104
CATEGORIES:Medzinárodná súťaž
ATTACH;FMTTYPE=image/jpeg:https://sank.sk/wp-content/uploads/2026/01/Powerfit_poster_A3-velkej-velkosti.jpeg
ORGANIZER;CN="SANK":MAILTO:sank@sank.sk
END:VEVENT
END:VCALENDAR